BEGIN:VCALENDAR
VERSION:2.0
PRODID:-//jEvents 2.0 for Joomla//EN
CALSCALE:GREGORIAN
METHOD:PUBLISH
BEGIN:VTIMEZONE
TZID:Europe/Berlin
BEGIN:STANDARD
DTSTART:20251026T020000
RDATE:20260329T030000
TZOFFSETFROM:+0200
TZOFFSETTO:+0100
TZNAME:Europe/Berlin CET
END:STANDARD
BEGIN:STANDARD
DTSTART:20261025T020000
RDATE:20270328T030000
TZOFFSETFROM:+0200
TZOFFSETTO:+0100
TZNAME:Europe/Berlin CET
END:STANDARD
BEGIN:STANDARD
DTSTART:20271031T020000
RDATE:20280326T030000
TZOFFSETFROM:+0200
TZOFFSETTO:+0100
TZNAME:Europe/Berlin CET
END:STANDARD
BEGIN:STANDARD
DTSTART:20281029T020000
RDATE:20290325T030000
TZOFFSETFROM:+0200
TZOFFSETTO:+0100
TZNAME:Europe/Berlin CET
END:STANDARD
BEGIN:STANDARD
DTSTART:20291028T020000
RDATE:20300331T030000
TZOFFSETFROM:+0200
TZOFFSETTO:+0100
TZNAME:Europe/Berlin CET
END:STANDARD
BEGIN:STANDARD
DTSTART:20301027T020000
RDATE:20310330T030000
TZOFFSETFROM:+0200
TZOFFSETTO:+0100
TZNAME:Europe/Berlin CET
END:STANDARD
BEGIN:STANDARD
DTSTART:20311026T020000
RDATE:20320328T030000
TZOFFSETFROM:+0200
TZOFFSETTO:+0100
TZNAME:Europe/Berlin CET
END:STANDARD
BEGIN:DAYLIGHT
DTSTART:20250507T180000
RDATE:20251026T020000
TZOFFSETFROM:+0100
TZOFFSETTO:+0200
TZNAME:Europe/Berlin CEST
END:DAYLIGHT
BEGIN:DAYLIGHT
DTSTART:20260329T030000
RDATE:20261025T020000
TZOFFSETFROM:+0100
TZOFFSETTO:+0200
TZNAME:Europe/Berlin CEST
END:DAYLIGHT
BEGIN:DAYLIGHT
DTSTART:20270328T030000
RDATE:20271031T020000
TZOFFSETFROM:+0100
TZOFFSETTO:+0200
TZNAME:Europe/Berlin CEST
END:DAYLIGHT
BEGIN:DAYLIGHT
DTSTART:20280326T030000
RDATE:20281029T020000
TZOFFSETFROM:+0100
TZOFFSETTO:+0200
TZNAME:Europe/Berlin CEST
END:DAYLIGHT
BEGIN:DAYLIGHT
DTSTART:20290325T030000
RDATE:20291028T020000
TZOFFSETFROM:+0100
TZOFFSETTO:+0200
TZNAME:Europe/Berlin CEST
END:DAYLIGHT
BEGIN:DAYLIGHT
DTSTART:20300331T030000
RDATE:20301027T020000
TZOFFSETFROM:+0100
TZOFFSETTO:+0200
TZNAME:Europe/Berlin CEST
END:DAYLIGHT
BEGIN:DAYLIGHT
DTSTART:20310330T030000
RDATE:20311026T020000
TZOFFSETFROM:+0100
TZOFFSETTO:+0200
TZNAME:Europe/Berlin CEST
END:DAYLIGHT
END:VTIMEZONE
BEGIN:VEVENT
UID:49705a900be2ef5841740d79b4b69824
CATEGORIES:Schulung
CREATED:20250924T205304
SUMMARY:Paddeln für Anfänger
LOCATION:Bootshaus
URL;VALUE=URI:https://akc-albersloh.de/sportprogramm/kalender/Eventdetail/1185/-/paddeln-
 fuer-anfaenger?tmpl=component
DESCRIPTION:<p>Der AKC lädt alle Interessierten herzlich zur Teilnahme am Anfängerkurs 
 „Paddeln für Anfänger“ ein. Wer also schon immer mal Paddeln lernen wollte 
 und im Kajak die Werse erkunden möchte, ist herzlich eingeladen. Lizensiert
 e Übungsleiter des AKC werden zunächst in ein paar Trockenübungen die Handh
 abung des Doppelpaddels vermitteln. Anschließend geht es dann auf die Werse
 , wo dann die Grundtechniken vermittelt werden. Wie beim Erlernen des Fahrr
 adfahrens wird es zunächst etwas Zick-Zack gehen. Mitzubringen sind: Kleidu
 ng, die nass werden darf, feste Schuhe und Wechselkleidung für nachher. Tre
 ffen ist um 18:00 Uhr am Bootshaus des AKC in Albersloh. Der AKC ist anerka
 nnter Kanu-Ausbilder des Deutschen Kanu Verbands (DKV). Weitere Information
 en erteilt <a href="http://akc-albersloh.de/index.php?option=com_contact&am
 p;view=contact&amp;id=1%3Aalexander-walkowski&amp;catid=1%3Avorstand&amp;It
 emid=8">Alexander Walkowski</a> .</p> <a href="https://akc-albersloh.de/spo
 rtprogramm/kalender/Eventdetail/1185/-/paddeln-fuer-anfaenger?tmpl=componen
 t">Dieser Event wurde importiert von: https://akc-albersloh.de/sportprogram
 m/kalender/Eventdetail/1185/-/paddeln-fuer-anfaenger?tmpl=component</a>DTSTAMP:20260424T180236
DTSTART;TZID=Europe/Berlin:20260508T180000
DTEND;TZID=Europe/Berlin:20260508T200000
SEQUENCE:0
TRANSP:OPAQUE
END:VEVENT
END:VCALENDAR